BEGIN:VCALENDAR
VERSION:2.0
PRODID:-//eventon.com NONSGML v1.0//EN
CALSCALE:GREGORIAN
METHOD:PUBLISH
BEGIN:VEVENT
UID:69e4dc9a652b3
DTSTAMP:20260419T134602Z
DTSTART:20250706
DTEND:20250707
LOCATION:
SUMMARY:Sommerpause
DESCRIPTION:Kein Fixes Programm während den Sommerferien\,  nutzt den Chat
  um spontan Sachen anzureissen!\nhttps://jg-langnau.ch/events/jg-sommerpaus
 e/
URL:https://jg-langnau.ch/events/jg-sommerpause/
END:VEVENT
END:VCALENDAR