BEGIN:VCALENDAR
VERSION:2.0
PRODID:-//eventon.com NONSGML v1.0//EN
CALSCALE:GREGORIAN
METHOD:PUBLISH
BEGIN:VEVENT
UID:69e72463222f0
DTSTAMP:20260421T071651Z
DTSTART:20230107T190000Z
DTEND:20230107T203000Z
LOCATION:EGW Bern-Zentrum Nägeligasse 9\,  Bern
SUMMARY:Worship-Night
DESCRIPTION:Die Worshipnights sind ein Ort der Freiheit und der spürbaren 
 Gegenwart Gottes. Unser Herz ist es\,  dass Menschen eine lebensverändernd
 e Begegnung mit ihrem Schöpfer erleben dürfen. Wir schaffen Raum um Gott 
 mit verschiedenen Kunstformen anzubeten und zu ehren. Wenn du es liebst Got
 t anzubeten\,  ist die Worshipnight ein Ort für[..]\nhttps://jg-langnau.ch
 /events/worship-night/
URL:https://jg-langnau.ch/events/worship-night/
END:VEVENT
END:VCALENDAR