BEGIN:VCALENDAR
VERSION:2.0
PRODID:-//eventon.com NONSGML v1.0//EN
CALSCALE:GREGORIAN
METHOD:PUBLISH
BEGIN:VEVENT
UID:69e77aba963a8
DTSTAMP:20260421T132514Z
DTSTART:20220226T190000Z
DTEND:20220226T213000Z
LOCATION:ATG-Emmental | Bistro Kehrstrasse 12
SUMMARY:Money Money Money
DESCRIPTION:Money Money Money\nhttps://jg-langnau.ch/events/money-money-mon
 ey/
URL:https://jg-langnau.ch/events/money-money-money/
END:VEVENT
END:VCALENDAR