BEGIN:VCALENDAR
VERSION:2.0
PRODID:-//eventon.com NONSGML v1.0//EN
CALSCALE:GREGORIAN
METHOD:PUBLISH
BEGIN:VEVENT
UID:69e70f6713d07
DTSTAMP:20260421T054719Z
DTSTART:20220122T180000Z
DTEND:20220122T210000Z
LOCATION:ATG-Emmental | Bistro Kehrstrasse 12
SUMMARY:Älterenabend
DESCRIPTION:Die JG lädt herzlich ein zum sogenannten &#8222;Älterenabend&
 #8220; 😉 Angesprochen fühlen dürfen Sich also nebst den JG-lern alle d
 ie sich nicht mehr zum aktiven JG-Kreis zählen aber auch noch nicht zu den
  Senioren. Also z.B. ehemalige\,  Eltern und grundsätzlich Personen die an
  der JG interessiert sind. Durchführen möchten wir das[..]\nhttps://jg-la
 ngnau.ch/events/aelterenabend/
URL:https://jg-langnau.ch/events/aelterenabend/
END:VEVENT
END:VCALENDAR