BEGIN:VCALENDAR
VERSION:2.0
PRODID:-//eventon.com NONSGML v1.0//EN
CALSCALE:GREGORIAN
METHOD:PUBLISH
BEGIN:VEVENT
UID:69e7100b624b2
DTSTAMP:20260421T055003Z
DTSTART:20211023T180000Z
DTEND:20211023T203000Z
LOCATION:ATG-Emmental | HVL Kehrstrasse 10\,  3550 langnau
SUMMARY:Spiele-Abend
DESCRIPTION:Meh Infos chöme no!\nhttps://jg-langnau.ch/events/spiele-abend
 /
URL:https://jg-langnau.ch/events/spiele-abend/
END:VEVENT
END:VCALENDAR