BEGIN:VCALENDAR
VERSION:2.0
PRODID:-//eventon.com NONSGML v1.0//EN
CALSCALE:GREGORIAN
METHOD:PUBLISH
BEGIN:VEVENT
UID:69e739ad99a97
DTSTAMP:20260421T084741Z
DTSTART:20210911T180000Z
DTEND:20210911T203000Z
LOCATION:ATG-Emmental | HVL Kehrstrasse 10\,  3550 langnau
SUMMARY:JG-Abend
DESCRIPTION:Mir näh üs ä Aabe zit über das Sehr aktuelle Thema usztusch
 e. &#x1f935;&#x1f470;  |   &#x1f470;&#x1f470;  | &#x1f935;&#x1f935;\nht
 tps://jg-langnau.ch/events/jg-abend/
URL:https://jg-langnau.ch/events/jg-abend/
END:VEVENT
END:VCALENDAR