BEGIN:VCALENDAR
VERSION:2.0
PRODID:-//eventon.com NONSGML v1.0//EN
CALSCALE:GREGORIAN
METHOD:PUBLISH
BEGIN:VEVENT
UID:69e7f90746546
DTSTAMP:20260421T222407Z
DTSTART:20260808T160000Z
DTEND:20260808T200000Z
LOCATION:EGW Bärau Styggässli 12\,  3552 Bärau
SUMMARY:Pizzafest
DESCRIPTION:Pizzafest\nhttps://jg-langnau.ch/events/pizzafest/
URL:https://jg-langnau.ch/events/pizzafest/
END:VEVENT
END:VCALENDAR