BEGIN:VCALENDAR
VERSION:2.0
PRODID:-//eventon.com NONSGML v1.0//EN
CALSCALE:GREGORIAN
METHOD:PUBLISH
BEGIN:VEVENT
UID:69e89c4dde121
DTSTAMP:20260422T100045Z
DTSTART:20261227
DTEND:20261228
LOCATION:Messe Basel Messepl. 10\,  4005 Basel
SUMMARY:Praisecamp
DESCRIPTION:Praisecamp\nhttps://jg-langnau.ch/events/praisecamp/
URL:https://jg-langnau.ch/events/praisecamp/
END:VEVENT
END:VCALENDAR