BEGIN:VCALENDAR
VERSION:2.0
PRODID:-//eventon.com NONSGML v1.0//EN
CALSCALE:GREGORIAN
METHOD:PUBLISH
BEGIN:VEVENT
UID:69ecb5c841cf1
DTSTAMP:20260425T123832Z
DTSTART:20261219T160000Z
DTEND:20261219T225500Z
LOCATION:ATG-Emmental | Saal Kehrstrasse 12
SUMMARY:JG Weihnachten
DESCRIPTION:JG Weihnachten\nhttps://jg-langnau.ch/events/jg-weihnachten-2/
URL:https://jg-langnau.ch/events/jg-weihnachten-2/
END:VEVENT
END:VCALENDAR