BEGIN:VCALENDAR
VERSION:2.0
PRODID:-//eventon.com NONSGML v1.0//EN
CALSCALE:GREGORIAN
METHOD:PUBLISH
BEGIN:VEVENT
UID:69e89c39ac074
DTSTAMP:20260422T100025Z
DTSTART:20261114T183000Z
DTEND:20261114T210000Z
LOCATION:ATG-Emmental | Jugendraum Kehrstrasse 12
SUMMARY:Gastabend
DESCRIPTION:Gastabend\nhttps://jg-langnau.ch/events/gastabend-4/
URL:https://jg-langnau.ch/events/gastabend-4/
END:VEVENT
END:VCALENDAR