BEGIN:VCALENDAR
VERSION:2.0
PRODID:-//eventon.com NONSGML v1.0//EN
CALSCALE:GREGORIAN
METHOD:PUBLISH
BEGIN:VEVENT
UID:69e89c47da88d
DTSTAMP:20260422T100039Z
DTSTART:20261016
DTEND:20261017
LOCATION:– Noch nicht bestimmt –
SUMMARY:JG Manneweekend
DESCRIPTION:JG Manneweekend\nhttps://jg-langnau.ch/events/jg-manneweekend/
URL:https://jg-langnau.ch/events/jg-manneweekend/
END:VEVENT
END:VCALENDAR