BEGIN:VCALENDAR
VERSION:2.0
PRODID:-//eventon.com NONSGML v1.0//EN
CALSCALE:GREGORIAN
METHOD:PUBLISH
BEGIN:VEVENT
UID:69e89d7b9cb68
DTSTAMP:20260422T100547Z
DTSTART:20261016
DTEND:20261017
LOCATION:– Noch nicht bestimmt –
SUMMARY:JG Froueweekend
DESCRIPTION:JG Froueweekend\nhttps://jg-langnau.ch/events/jg-froueweekend/
URL:https://jg-langnau.ch/events/jg-froueweekend/
END:VEVENT
END:VCALENDAR