BEGIN:VCALENDAR
VERSION:2.0
PRODID:-//eventon.com NONSGML v1.0//EN
CALSCALE:GREGORIAN
METHOD:PUBLISH
BEGIN:VEVENT
UID:69e89c4e5f1d4
DTSTAMP:20260422T100046Z
DTSTART:20260905T180000Z
DTEND:20260905T200000Z
LOCATION:ATG-Emmental | Jugendraum Kehrstrasse 12
SUMMARY:Themenabend
DESCRIPTION:Themenabend\nhttps://jg-langnau.ch/events/themenabend-12/
URL:https://jg-langnau.ch/events/themenabend-12/
END:VEVENT
END:VCALENDAR