BEGIN:VCALENDAR
VERSION:2.0
PRODID:-//eventon.com NONSGML v1.0//EN
CALSCALE:GREGORIAN
METHOD:PUBLISH
BEGIN:VEVENT
UID:69e89c1e381e7
DTSTAMP:20260422T095958Z
DTSTART:20260828
DTEND:20260829
LOCATION:Solothurn
SUMMARY:JG Weekend
DESCRIPTION:JG Weekend\nhttps://jg-langnau.ch/events/jg-weekend-2/
URL:https://jg-langnau.ch/events/jg-weekend-2/
END:VEVENT
END:VCALENDAR