BEGIN:VCALENDAR
VERSION:2.0
PRODID:-//eventon.com NONSGML v1.0//EN
CALSCALE:GREGORIAN
METHOD:PUBLISH
BEGIN:VEVENT
UID:69eb5e62e59f2
DTSTAMP:20260424T121322Z
DTSTART:20260612
DTEND:20260613
LOCATION:Chrischona 4126 Bettingen
SUMMARY:MELO
DESCRIPTION:Main Page\nhttps://jg-langnau.ch/events/melo/
URL:https://jg-langnau.ch/events/melo/
END:VEVENT
END:VCALENDAR