BEGIN:VCALENDAR
VERSION:2.0
PRODID:-//eventon.com NONSGML v1.0//EN
CALSCALE:GREGORIAN
METHOD:PUBLISH
BEGIN:VEVENT
UID:69e750997e445
DTSTAMP:20260421T102529Z
DTSTART:20260228T190000Z
DTEND:20260228T213000Z
LOCATION:Kehrstrasse 12\,  3550 Langnau
SUMMARY:Action
DESCRIPTION:Action\nhttps://jg-langnau.ch/events/action-3/
URL:https://jg-langnau.ch/events/action-3/
END:VEVENT
END:VCALENDAR