BEGIN:VCALENDAR
VERSION:2.0
PRODID:-//eventon.com NONSGML v1.0//EN
CALSCALE:GREGORIAN
METHOD:PUBLISH
BEGIN:VEVENT
UID:69e752738a735
DTSTAMP:20260421T103323Z
DTSTART:20260207T073000Z
DTEND:20260207T160000Z
LOCATION:– Noch nicht bestimmt –
SUMMARY:Skitag (Ausweichdatum) oder Abend mit Gott
DESCRIPTION:Skitag (Ausweichdatum) oder Abend mit Gott\nhttps://jg-langnau.
 ch/events/skitag-ersatzdatum/
URL:https://jg-langnau.ch/events/skitag-ersatzdatum/
END:VEVENT
END:VCALENDAR