BEGIN:VCALENDAR
VERSION:2.0
PRODID:-//eventon.com NONSGML v1.0//EN
CALSCALE:GREGORIAN
METHOD:PUBLISH
BEGIN:VEVENT
UID:69e76492c652c
DTSTAMP:20260421T115042Z
DTSTART:20250118T190000Z
DTEND:20250118T213000Z
LOCATION:ATG-Emmental | Bistro Kehrstrasse 12
SUMMARY:Themenabend
DESCRIPTION:Themenabend\nhttps://jg-langnau.ch/events/themenabend-4/
URL:https://jg-langnau.ch/events/themenabend-4/
END:VEVENT
END:VCALENDAR