BEGIN:VCALENDAR
VERSION:2.0
PRODID:-//eventon.com NONSGML v1.0//EN
CALSCALE:GREGORIAN
METHOD:PUBLISH
BEGIN:VEVENT
UID:69e73cf76144f
DTSTAMP:20260421T090143Z
DTSTART:20240525T173000Z
DTEND:20240525T193000Z
LOCATION:
SUMMARY:Hesston College Choir
DESCRIPTION:Hesston College Choir\nhttps://jg-langnau.ch/events/hesston-col
 lege-choir/
URL:https://jg-langnau.ch/events/hesston-college-choir/
END:VEVENT
END:VCALENDAR