BEGIN:VCALENDAR
VERSION:2.0
PRODID:-//eventon.com NONSGML v1.0//EN
CALSCALE:GREGORIAN
METHOD:PUBLISH
BEGIN:VEVENT
UID:69e7648cdd893
DTSTAMP:20260421T115036Z
DTSTART:20240406T113000Z
DTEND:20240406T133000Z
LOCATION:ATG-Emmental | Saal Kehrstrasse 12
SUMMARY:MV 1/2024
DESCRIPTION:Herzliche Einladung zur Mitgliederversammlung. Es werden wichti
 ge Entschlüsse gefasst die auch die Jugedräumlichkeiten betreffen darum s
 ei doch auch dabei!\nhttps://jg-langnau.ch/events/mitgliederversammlung/
URL:https://jg-langnau.ch/events/mitgliederversammlung/
END:VEVENT
END:VCALENDAR