BEGIN:VCALENDAR
VERSION:2.0
PRODID:-//eventon.com NONSGML v1.0//EN
CALSCALE:GREGORIAN
METHOD:PUBLISH
BEGIN:VEVENT
UID:69e77abe2423b
DTSTAMP:20260421T132518Z
DTSTART:20231014T180000Z
DTEND:20231014T203000Z
LOCATION:
SUMMARY:JG-Abend
DESCRIPTION:JG-Abend\nhttps://jg-langnau.ch/events/jg-abend-4/
URL:https://jg-langnau.ch/events/jg-abend-4/
END:VEVENT
END:VCALENDAR