BEGIN:VCALENDAR
VERSION:2.0
PRODID:-//eventon.com NONSGML v1.0//EN
CALSCALE:GREGORIAN
METHOD:PUBLISH
BEGIN:VEVENT
UID:69e4e526bacc6
DTSTAMP:20260419T142230Z
DTSTART:20240125T130000Z
DTEND:20240125T190000Z
LOCATION:– Noch nicht bestimmt –
SUMMARY:Action
DESCRIPTION:Action\nhttps://jg-langnau.ch/events/action/
URL:https://jg-langnau.ch/events/action/
END:VEVENT
END:VCALENDAR