BEGIN:VCALENDAR
VERSION:2.0
PRODID:-//eventon.com NONSGML v1.0//EN
CALSCALE:GREGORIAN
METHOD:PUBLISH
BEGIN:VEVENT
UID:69e76548703f7
DTSTAMP:20260421T115344Z
DTSTART:20230507T073000Z
DTEND:20230507T083000Z
LOCATION:ATG-Emmental | Saal Kehrstrasse 12
SUMMARY:Die JG plant den Sonntags-GD
DESCRIPTION:Ein Gottesdienst der Viel Raum für Zeugnisse und Worship lasse
 n wird\nhttps://jg-langnau.ch/events/jg-plant-den-sonntags-gd/
URL:https://jg-langnau.ch/events/jg-plant-den-sonntags-gd/
END:VEVENT
END:VCALENDAR