BEGIN:VCALENDAR
VERSION:2.0
PRODID:-//eventon.com NONSGML v1.0//EN
CALSCALE:GREGORIAN
METHOD:PUBLISH
BEGIN:VEVENT
UID:69e6e6cecb70b
DTSTAMP:20260421T025406Z
DTSTART:20230429T180000Z
DTEND:20230429T203000Z
LOCATION:ATG-Emmental | Bistro Kehrstrasse 12
SUMMARY:Beziehungen
DESCRIPTION:Beziehungen\nhttps://jg-langnau.ch/events/beziehungen-2/
URL:https://jg-langnau.ch/events/beziehungen-2/
END:VEVENT
END:VCALENDAR