BEGIN:VCALENDAR
VERSION:2.0
PRODID:-//eventon.com NONSGML v1.0//EN
CALSCALE:GREGORIAN
METHOD:PUBLISH
BEGIN:VEVENT
UID:69e74e71a1dd7
DTSTAMP:20260421T101617Z
DTSTART:20230114T170000Z
DTEND:20230114T213000Z
LOCATION:ATG-Emmental | Bistro Kehrstrasse 12
SUMMARY:Gastfreundschaft
DESCRIPTION:Gastfreundschaft\nhttps://jg-langnau.ch/events/gastfreundschaft
 /
URL:https://jg-langnau.ch/events/gastfreundschaft/
END:VEVENT
END:VCALENDAR