BEGIN:VCALENDAR
VERSION:2.0
PRODID:-//eventon.com NONSGML v1.0//EN
CALSCALE:GREGORIAN
METHOD:PUBLISH
BEGIN:VEVENT
UID:69e6e6575cfd5
DTSTAMP:20260421T025207Z
DTSTART:20221210T190000Z
DTEND:20221210T213000Z
LOCATION:ATG-Emmentalâ€‰|â€‰Bistro Kehrstrasse 12
SUMMARY:Winterplausch
DESCRIPTION:Wir treffen uns direkt hier bei der Eisbahn im Hinterdorf zum Â
 «SchlÃ¶fleÂ»\,  spÃ¤ter verschieben wir noch in den Kehr. &nbsp;\nhttps://j
 g-langnau.ch/events/beziehungen/
URL:https://jg-langnau.ch/events/beziehungen/
END:VEVENT
END:VCALENDAR